BEGIN:VCALENDAR
VERSION:2.0
PRODID:-//ChamberMaster//Event Calendar 2.0//EN
METHOD:PUBLISH
X-PUBLISHED-TTL:P3D
REFRESH-INTERVAL:P3D
CALSCALE:GREGORIAN
BEGIN:VEVENT
DTSTART:20260425T220000Z
DTEND:20260425T220000Z
X-MICROSOFT-CDO-ALLDAYEVENT:FALSE
SUMMARY:Walleyes for Tomorrow Banquest
DESCRIPTION:Price County's Walleyes for Tomorrow Banquet
X-ALT-DESC;FMTTYPE=text/html:Price County&#39\;s Walleyes for Tomorrow Banquet
LOCATION:Municipal Building Phillips\, WI
UID:e.3480.10792
SEQUENCE:3
DTSTAMP:20260424T013338Z
URL:https://business.phillipswisconsin.net/events/details/walleyes-for-tomorrow-banquest-10792
END:VEVENT

END:VCALENDAR
