BEGIN:VCALENDAR
VERSION:2.0
PRODID:-//ChamberMaster//Event Calendar 2.0//EN
METHOD:PUBLISH
X-PUBLISHED-TTL:P3D
REFRESH-INTERVAL:P3D
CALSCALE:GREGORIAN
BEGIN:VEVENT
DTSTART:20260515T213000Z
DTEND:20260516T003000Z
X-MICROSOFT-CDO-ALLDAYEVENT:FALSE
SUMMARY:Miniature Clay Gnomes Workshop
DESCRIPTION:Instructor Cyndi Sinnott will provide materials and instructions to create small polymer clay gnomes for your fairy gardens\, house plants\, or just for display.
X-ALT-DESC;FMTTYPE=text/html:Instructor Cyndi Sinnott will provide materials and instructions to create small polymer clay gnomes for your fairy gardens\, house plants\, or just for display.&nbsp\;
LOCATION:Rock Garden Tavern N8220 State Hwy 13 Phillips
UID:e.3480.11094
SEQUENCE:3
DTSTAMP:20260423T181703Z
URL:https://business.phillipswisconsin.net/events/details/miniature-clay-gnomes-workshop-11094
END:VEVENT

END:VCALENDAR
