BEGIN:VCALENDAR
VERSION:2.0
PRODID:-//ChamberMaster//Event Calendar 2.0//EN
METHOD:PUBLISH
X-PUBLISHED-TTL:P3D
REFRESH-INTERVAL:P3D
CALSCALE:GREGORIAN
BEGIN:VEVENT
DTSTART:20260514T233000Z
DTEND:20260515T010000Z
X-MICROSOFT-CDO-ALLDAYEVENT:FALSE
SUMMARY:Life Recovery for Men
DESCRIPTION:Life Recovery Group   Men's Recovery\n\nThursdays at 6:30 PM\n\nMen Only   Open to the Community   Weekly on Thursdays\n\nVictory Christian Center is pleased to relaunch our Life Recovery Group\, a Christ-centered\, 12-step recovery ministry designed specifically for men. This group exists to help men experience healing\, freedom\, and transformation through biblical truth\, accountability\, and brotherhood.\n\nWhether you are facing addiction\, emotional pain\, codependency\, relational struggles\, or simply seeking a healthier path forward\, you will find real support and encouragement here.\n\n\nWhat to Expect\n\nOur Life Recovery Group provides:\n\n\n	A safe\, confidential\, judgment-free environment\n	Support rooted in biblical principles\n	Group discussion\, prayer\, and encouragement\n	Practical tools for personal and spiritual growth\n	Step-by-step guidance using the Life Recovery program\n\n\n\nMeeting Details\n\nDate: Thursdays\n\nTime: 6:30 PM\n\nLocation: Victory Hall at Victory Christian Center\n\nW6880 Liberty Ln\, Phillips WI 54555\n\nPlease enter the building through the main entrance.\n\n\nLeadership & Contact\n\nFor questions or more information:\n\n?? liferecovery@vccphillips.org\n\n\nWho Is Welcome?\n\nMen Only.\n\nLife Recovery is open to any man in the community who is ready to take steps toward healing and a stronger\, healthier life. Whether you are exploring recovery for the first time or continuing your journey\, you will find encouragement\, accountability\, and brotherhood here.
X-ALT-DESC;FMTTYPE=text/html:<h2><strong>Life Recovery Group &ndash\; Men&rsquo\;s Recovery</strong></h2>\n\n<p><strong>Thursdays at 6:30 PM</strong></p>\n\n<p><strong>Men Only &bull\; Open to the Community &bull\; Weekly on Thursdays</strong></p>\n\n<p>Victory Christian Center is pleased to relaunch our Life Recovery Group\, a Christ-centered\, 12-step recovery ministry designed specifically for men. This group exists to help men experience healing\, freedom\, and transformation through biblical truth\, accountability\, and brotherhood.</p>\n\n<p>Whether you are facing addiction\, emotional pain\, codependency\, relational struggles\, or simply seeking a healthier path forward\, you will find real support and encouragement here.</p>\n\n<hr />\n<h2><strong>What to Expect</strong></h2>\n\n<p>Our Life Recovery Group provides:</p>\n\n<ul>\n	<li>A safe\, confidential\, judgment-free environment</li>\n	<li>Support rooted in biblical principles</li>\n	<li>Group discussion\, prayer\, and encouragement</li>\n	<li>Practical tools for personal and spiritual growth</li>\n	<li>Step-by-step guidance using the Life Recovery program</li>\n</ul>\n\n<hr />\n<h2><strong>Meeting Details</strong></h2>\n\n<p><strong>Date:</strong> Thursdays<br />\n<strong>Time:</strong> 6:30 PM<br />\n<strong>Location:</strong> Victory Hall at Victory Christian Center<br />\nW6880 Liberty Ln\, Phillips WI 54555</p>\n\n<p><em>Please enter the building through the main entrance.</em></p>\n\n<hr />\n<h2><strong>Leadership &amp\; Contact</strong></h2>\n\n<p>For questions or more information:<br />\n?? liferecovery@vccphillips.org</p>\n\n<hr />\n<h2><strong>Who Is Welcome?</strong></h2>\n\n<p><strong>Men Only.</strong><br />\nLife Recovery is open to any man in the community who is ready to take steps toward healing and a stronger\, healthier life. Whether you are exploring recovery for the first time or continuing your journey\, you will find encouragement\, accountability\, and brotherhood here.</p>\n
LOCATION:Victory Christian Center W6880 Liberty Lane Phillips\,WI 54555
UID:e.3480.10847
SEQUENCE:3
DTSTAMP:20260421T105421Z
URL:https://business.phillipswisconsin.net/events/details/life-recovery-for-men-05-14-2026-10847
END:VEVENT

END:VCALENDAR
